BEGIN:VCALENDAR
VERSION:2.0
PRODID:Mercado de Produtos Locais
X-WR-CALNAME:Mercado de Produtos Locais
X-WR-TIMEZONE:Europe/Lisbon
X-PUBLISHED-TTL:P1W
BEGIN:VTIMEZONE
TZID:Europe/Lisbon
X-LIC-LOCATION:Europe/Lisbon
END:VTIMEZONE
BEGIN:VEVENT
UID:69ecee61b7c8e
DTSTART;VALUE=DATE:20241201
SEQUENCE:0
TRANSP:OPAQUE
DTEND;VALUE=DATE:20241202
SUMMARY:Mercado de Produtos Locais
CLASS:PUBLIC
DESCRIPTION:1ª Mercado de Produtos Locais - Rossio da Matoeira - 1º Domin
 go de cada mês
X-MICROSOFT-CDO-ALLDAYEVENT:TRUE
DTSTAMP:20260425T164001Z
END:VEVENT
END:VCALENDAR